BEGIN:VCALENDAR
VERSION:2.0
PRODID:-//1st Choice Healthcare - ECPv6.15.12.2//NONSGML v1.0//EN
CALSCALE:GREGORIAN
METHOD:PUBLISH
X-ORIGINAL-URL:https://1stchoice-ar.org
X-WR-CALDESC:Events for 1st Choice Healthcare
REFRESH-INTERVAL;VALUE=DURATION:PT1H
X-Robots-Tag:noindex
X-PUBLISHED-TTL:PT1H
BEGIN:VTIMEZONE
TZID:America/Chicago
BEGIN:DAYLIGHT
TZOFFSETFROM:-0600
TZOFFSETTO:-0500
TZNAME:CDT
DTSTART:20270314T080000
END:DAYLIGHT
BEGIN:STANDARD
TZOFFSETFROM:-0500
TZOFFSETTO:-0600
TZNAME:CST
DTSTART:20271107T070000
END:STANDARD
BEGIN:DAYLIGHT
TZOFFSETFROM:-0600
TZOFFSETTO:-0500
TZNAME:CDT
DTSTART:20280312T080000
END:DAYLIGHT
BEGIN:STANDARD
TZOFFSETFROM:-0500
TZOFFSETTO:-0600
TZNAME:CST
DTSTART:20281105T070000
END:STANDARD
BEGIN:DAYLIGHT
TZOFFSETFROM:-0600
TZOFFSETTO:-0500
TZNAME:CDT
DTSTART:20290311T080000
END:DAYLIGHT
BEGIN:STANDARD
TZOFFSETFROM:-0500
TZOFFSETTO:-0600
TZNAME:CST
DTSTART:20291104T070000
END:STANDARD
END:VTIMEZONE
BEGIN:VEVENT
DTSTART;TZID=America/Chicago:20280103T090000
DTEND;TZID=America/Chicago:20280103T130000
DTSTAMP:20260421T132749
CREATED:20260327T135155Z
LAST-MODIFIED:20260327T135155Z
UID:10002167-1830502800-1830517200@1stchoice-ar.org
SUMMARY:Mobile Unit
DESCRIPTION:
URL:https://1stchoice-ar.org/event/mobile-unit-2/2028-01-03/
LOCATION:Mission Outreatch\, 901 E Lake Street\, Paragould\, AR\, 72450\, United States
END:VEVENT
BEGIN:VEVENT
DTSTART;TZID=America/Chicago:20280110T090000
DTEND;TZID=America/Chicago:20280110T130000
DTSTAMP:20260421T132749
CREATED:20260327T135155Z
LAST-MODIFIED:20260327T135155Z
UID:10002168-1831107600-1831122000@1stchoice-ar.org
SUMMARY:Mobile Unit
DESCRIPTION:
URL:https://1stchoice-ar.org/event/mobile-unit-2/2028-01-10/
LOCATION:Mission Outreatch\, 901 E Lake Street\, Paragould\, AR\, 72450\, United States
END:VEVENT
BEGIN:VEVENT
DTSTART;TZID=America/Chicago:20280117T090000
DTEND;TZID=America/Chicago:20280117T130000
DTSTAMP:20260421T132749
CREATED:20260327T135155Z
LAST-MODIFIED:20260327T135155Z
UID:10002169-1831712400-1831726800@1stchoice-ar.org
SUMMARY:Mobile Unit
DESCRIPTION:
URL:https://1stchoice-ar.org/event/mobile-unit-2/2028-01-17/
LOCATION:Mission Outreatch\, 901 E Lake Street\, Paragould\, AR\, 72450\, United States
END:VEVENT
BEGIN:VEVENT
DTSTART;TZID=America/Chicago:20280124T090000
DTEND;TZID=America/Chicago:20280124T130000
DTSTAMP:20260421T132749
CREATED:20260327T135155Z
LAST-MODIFIED:20260327T135155Z
UID:10002170-1832317200-1832331600@1stchoice-ar.org
SUMMARY:Mobile Unit
DESCRIPTION:
URL:https://1stchoice-ar.org/event/mobile-unit-2/2028-01-24/
LOCATION:Mission Outreatch\, 901 E Lake Street\, Paragould\, AR\, 72450\, United States
END:VEVENT
BEGIN:VEVENT
DTSTART;TZID=America/Chicago:20280131T090000
DTEND;TZID=America/Chicago:20280131T130000
DTSTAMP:20260421T132749
CREATED:20260327T135155Z
LAST-MODIFIED:20260327T135155Z
UID:10002171-1832922000-1832936400@1stchoice-ar.org
SUMMARY:Mobile Unit
DESCRIPTION:
URL:https://1stchoice-ar.org/event/mobile-unit-2/2028-01-31/
LOCATION:Mission Outreatch\, 901 E Lake Street\, Paragould\, AR\, 72450\, United States
END:VEVENT
END:VCALENDAR